BEGIN:VCALENDAR
VERSION:2.0
PRODID:-//Aspiri Primary School - ECPv6.13.2.1//NONSGML v1.0//EN
CALSCALE:GREGORIAN
METHOD:PUBLISH
X-ORIGINAL-URL:http://aspirips.wa.edu.au
X-WR-CALDESC:Events for Aspiri Primary School
REFRESH-INTERVAL;VALUE=DURATION:PT1H
X-Robots-Tag:noindex
X-PUBLISHED-TTL:PT1H
BEGIN:VTIMEZONE
TZID:Australia/Perth
BEGIN:STANDARD
TZOFFSETFROM:+0800
TZOFFSETTO:+0800
TZNAME:AWST
DTSTART:20240101T000000
END:STANDARD
END:VTIMEZONE
BEGIN:VEVENT
DTSTART;TZID=Australia/Perth:20240612T180000
DTEND;TZID=Australia/Perth:20240612T190000
DTSTAMP:20260425T051248
CREATED:20240609T111914Z
LAST-MODIFIED:20240609T111914Z
UID:7888-1718215200-1718218800@aspirips.wa.edu.au
SUMMARY:P&C meeting 6pm
DESCRIPTION:
URL:http://aspirips.wa.edu.au/calendar/pc-meeting-6pm/
CATEGORIES:Board and P&C Meetings
END:VEVENT
END:VCALENDAR