BEGIN:VCALENDAR
VERSION:2.0
PRODID:-//Aspiri Primary School - ECPv6.13.2.1//NONSGML v1.0//EN
CALSCALE:GREGORIAN
METHOD:PUBLISH
X-ORIGINAL-URL:http://aspirips.wa.edu.au
X-WR-CALDESC:Events for Aspiri Primary School
REFRESH-INTERVAL;VALUE=DURATION:PT1H
X-Robots-Tag:noindex
X-PUBLISHED-TTL:PT1H
BEGIN:VTIMEZONE
TZID:Australia/Perth
BEGIN:STANDARD
TZOFFSETFROM:+0800
TZOFFSETTO:+0800
TZNAME:AWST
DTSTART:20240101T000000
END:STANDARD
END:VTIMEZONE
BEGIN:VEVENT
DTSTART;VALUE=DATE:20240626
DTEND;VALUE=DATE:20240627
DTSTAMP:20260425T051156
CREATED:20240609T112252Z
LAST-MODIFIED:20240609T112252Z
UID:7908-1719360000-1719446399@aspirips.wa.edu.au
SUMMARY:Book Fair
DESCRIPTION:
URL:http://aspirips.wa.edu.au/calendar/book-fair-3/
CATEGORIES:School Events
END:VEVENT
BEGIN:VEVENT
DTSTART;VALUE=DATE:20240625
DTEND;VALUE=DATE:20240626
DTSTAMP:20260425T051156
CREATED:20240609T112218Z
LAST-MODIFIED:20240609T112218Z
UID:7904-1719273600-1719359999@aspirips.wa.edu.au
SUMMARY:Book Fair
DESCRIPTION:
URL:http://aspirips.wa.edu.au/calendar/book-fair-2/
CATEGORIES:School Events
END:VEVENT
BEGIN:VEVENT
DTSTART;VALUE=DATE:20240624
DTEND;VALUE=DATE:20240625
DTSTAMP:20260425T051156
CREATED:20240609T112151Z
LAST-MODIFIED:20240609T112151Z
UID:7902-1719187200-1719273599@aspirips.wa.edu.au
SUMMARY:Incursion whole school Gina Williams & Guy Ghouse
DESCRIPTION:
URL:http://aspirips.wa.edu.au/calendar/incursion-whole-school-gina-williams-guy-ghouse/
CATEGORIES:School Events
END:VEVENT
BEGIN:VEVENT
DTSTART;VALUE=DATE:20240620
DTEND;VALUE=DATE:20240625
DTSTAMP:20260425T051156
CREATED:20240609T112123Z
LAST-MODIFIED:20240609T112123Z
UID:7900-1718841600-1719273599@aspirips.wa.edu.au
SUMMARY:Book Fair
DESCRIPTION:
URL:http://aspirips.wa.edu.au/calendar/book-fair/
CATEGORIES:School Events
END:VEVENT
BEGIN:VEVENT
DTSTART;VALUE=DATE:20240617
DTEND;VALUE=DATE:20240618
DTSTAMP:20260425T051156
CREATED:20240609T112054Z
LAST-MODIFIED:20240609T112054Z
UID:7898-1718582400-1718668799@aspirips.wa.edu.au
SUMMARY:School reports emailed home PP-Yr6
DESCRIPTION:
URL:http://aspirips.wa.edu.au/calendar/school-reports-emailed-home-pp-yr6/
CATEGORIES:School Events
END:VEVENT
BEGIN:VEVENT
DTSTART;VALUE=DATE:20240617
DTEND;VALUE=DATE:20240618
DTSTAMP:20260425T051156
CREATED:20240609T112041Z
LAST-MODIFIED:20240609T112041Z
UID:7896-1718582400-1718668799@aspirips.wa.edu.au
SUMMARY:Kindy A portfolio sent home
DESCRIPTION:
URL:http://aspirips.wa.edu.au/calendar/kindy-a-portfolio-sent-home/
CATEGORIES:School Events
END:VEVENT
BEGIN:VEVENT
DTSTART;VALUE=DATE:20240614
DTEND;VALUE=DATE:20240615
DTSTAMP:20260425T051156
CREATED:20240609T112022Z
LAST-MODIFIED:20240609T112022Z
UID:7894-1718323200-1718409599@aspirips.wa.edu.au
SUMMARY:Kindy B portfolio sent home
DESCRIPTION:
URL:http://aspirips.wa.edu.au/calendar/kindy-b-portfolio-sent-home/
CATEGORIES:School Events
END:VEVENT
BEGIN:VEVENT
DTSTART;VALUE=DATE:20240613
DTEND;VALUE=DATE:20240614
DTSTAMP:20260425T051156
CREATED:20240609T112006Z
LAST-MODIFIED:20240609T112006Z
UID:7892-1718236800-1718323199@aspirips.wa.edu.au
SUMMARY:Cross country & junior fun run
DESCRIPTION:
URL:http://aspirips.wa.edu.au/calendar/cross-country-junior-fun-run/
CATEGORIES:School Events
END:VEVENT
BEGIN:VEVENT
DTSTART;TZID=Australia/Perth:20240612T140000
DTEND;TZID=Australia/Perth:20240612T150000
DTSTAMP:20260425T051156
CREATED:20240609T111850Z
LAST-MODIFIED:20240609T111850Z
UID:7886-1718200800-1718204400@aspirips.wa.edu.au
SUMMARY:Assembly Mia mia 2
DESCRIPTION:
URL:http://aspirips.wa.edu.au/calendar/assembly-mia-mia-2/
CATEGORIES:School Events
END:VEVENT
END:VCALENDAR