BEGIN:VCALENDAR
VERSION:2.0
PRODID:-//Aspiri Primary School - ECPv6.13.2.1//NONSGML v1.0//EN
CALSCALE:GREGORIAN
METHOD:PUBLISH
X-WR-CALNAME:Aspiri Primary School
X-ORIGINAL-URL:http://aspirips.wa.edu.au
X-WR-CALDESC:Events for Aspiri Primary School
REFRESH-INTERVAL;VALUE=DURATION:PT1H
X-Robots-Tag:noindex
X-PUBLISHED-TTL:PT1H
BEGIN:VTIMEZONE
TZID:Australia/Perth
BEGIN:STANDARD
TZOFFSETFROM:+0800
TZOFFSETTO:+0800
TZNAME:AWST
DTSTART:20240101T000000
END:STANDARD
END:VTIMEZONE
BEGIN:VEVENT
DTSTART;VALUE=DATE:20250205
DTEND;VALUE=DATE:20250206
DTSTAMP:20260425T050549
CREATED:20241218T123725Z
LAST-MODIFIED:20241218T123725Z
UID:8083-1738713600-1738799999@aspirips.wa.edu.au
SUMMARY:Term One begins for all students
DESCRIPTION:
URL:http://aspirips.wa.edu.au/calendar/term-one-begins-for-all-students/
CATEGORIES:Term Dates
END:VEVENT
BEGIN:VEVENT
DTSTART;VALUE=DATE:20241212
DTEND;VALUE=DATE:20241213
DTSTAMP:20260425T050549
CREATED:20241205T054424Z
LAST-MODIFIED:20241205T054424Z
UID:8005-1733961600-1734047999@aspirips.wa.edu.au
SUMMARY:Term 4 finishes for all students
DESCRIPTION:
URL:http://aspirips.wa.edu.au/calendar/term-4-finishes-for-all-students/
CATEGORIES:Term Dates
END:VEVENT
BEGIN:VEVENT
DTSTART;VALUE=DATE:20240628
DTEND;VALUE=DATE:20240629
DTSTAMP:20260425T050549
CREATED:20240609T112327Z
LAST-MODIFIED:20240609T112327Z
UID:7912-1719532800-1719619199@aspirips.wa.edu.au
SUMMARY:Students last day of term two
DESCRIPTION:
URL:http://aspirips.wa.edu.au/calendar/students-last-day-of-term-two/
CATEGORIES:Term Dates
END:VEVENT
END:VCALENDAR